BEGIN:VCALENDAR
VERSION:2.0
PRODID:-//The Honors College - ECPv6.1.3//NONSGML v1.0//EN
CALSCALE:GREGORIAN
METHOD:PUBLISH
X-ORIGINAL-URL:https://honors.wsu.edu
X-WR-CALDESC:Events for The Honors College
REFRESH-INTERVAL;VALUE=DURATION:PT1H
X-Robots-Tag:noindex
X-PUBLISHED-TTL:PT1H
BEGIN:VTIMEZONE
TZID:America/Los_Angeles
BEGIN:DAYLIGHT
TZOFFSETFROM:-0800
TZOFFSETTO:-0700
TZNAME:PDT
DTSTART:20190310T100000
END:DAYLIGHT
BEGIN:STANDARD
TZOFFSETFROM:-0700
TZOFFSETTO:-0800
TZNAME:PST
DTSTART:20191103T090000
END:STANDARD
BEGIN:DAYLIGHT
TZOFFSETFROM:-0800
TZOFFSETTO:-0700
TZNAME:PDT
DTSTART:20200308T100000
END:DAYLIGHT
BEGIN:STANDARD
TZOFFSETFROM:-0700
TZOFFSETTO:-0800
TZNAME:PST
DTSTART:20201101T090000
END:STANDARD
BEGIN:DAYLIGHT
TZOFFSETFROM:-0800
TZOFFSETTO:-0700
TZNAME:PDT
DTSTART:20210314T100000
END:DAYLIGHT
BEGIN:STANDARD
TZOFFSETFROM:-0700
TZOFFSETTO:-0800
TZNAME:PST
DTSTART:20211107T090000
END:STANDARD
BEGIN:DAYLIGHT
TZOFFSETFROM:-0800
TZOFFSETTO:-0700
TZNAME:PDT
DTSTART:20220313T100000
END:DAYLIGHT
BEGIN:STANDARD
TZOFFSETFROM:-0700
TZOFFSETTO:-0800
TZNAME:PST
DTSTART:20221106T090000
END:STANDARD
BEGIN:DAYLIGHT
TZOFFSETFROM:-0800
TZOFFSETTO:-0700
TZNAME:PDT
DTSTART:20230312T100000
END:DAYLIGHT
BEGIN:STANDARD
TZOFFSETFROM:-0700
TZOFFSETTO:-0800
TZNAME:PST
DTSTART:20231105T090000
END:STANDARD
END:VTIMEZONE
BEGIN:VEVENT
DTSTART;TZID=America/Los_Angeles:20190305T143000
DTEND;TZID=America/Los_Angeles:20190305T143000
DTSTAMP:20260420T220559
CREATED:20190227T210812Z
LAST-MODIFIED:20190227T210812Z
UID:11441-1551796200-1551796200@honors.wsu.edu
SUMMARY:Guest speaker Chuck Arnold\, Seahawks President
DESCRIPTION:Please join us in welcoming guest speaker and WSU alumnus \nChuck Arnold (’94)\nPresident\, Seattle Seahawks\nFirst & Goal Inc.\nRefreshments will be served \nAs president of the Seattle Seahawks and First & Goal Inc.\, Mr. Arnold oversees all financial and business operations\, sales and marketing\, and administration for the Seahawks. Hear firsthand his thoughts on leadership and effective strategies for personal and professional growth.\nRead Chuck Arnold’s full bio here \nSpace is limited ~ RSVP today
URL:https://honors.wsu.edu/event/guest-speaker-chuck-arnold-seahawks-president/
LOCATION:Elmina White Honors Hall Lounge\, 600 Spokane St\, Pullman\, WA\, 99163\, United States
END:VEVENT
BEGIN:VEVENT
DTSTART;TZID=America/Los_Angeles:20220916T160000
DTEND;TZID=America/Los_Angeles:20220916T180000
DTSTAMP:20260420T220559
CREATED:20220825T225505Z
LAST-MODIFIED:20220825T225505Z
UID:18193-1663344000-1663351200@honors.wsu.edu
SUMMARY:LEAP! Networking Event
DESCRIPTION:LEAP! Networking Event\n  \nThe LEAP! Networking event is an opportunity for all students in the WSU Honors College to enhance their professional networking skills. During this event\, students will engage with industry professionals\, practice interview and communication skills\, and learn best practices for professional success upon graduation! Make sure to register for LEAP! today. Food will be provided. Alumni from various industries will participate. \nFriday\, September 16\n4:00-6:00 p.m.\nElmina White Honors Hall Lounge \nYou can register for the LEAP! Event here: https://honors.wsu.edu/leap-networking-event-registration-fall-2022/
URL:https://honors.wsu.edu/event/leap-networking-event-2/
LOCATION:Elmina White Honors Hall Lounge\, 600 Spokane St\, Pullman\, WA\, 99163\, United States
END:VEVENT
BEGIN:VEVENT
DTSTART;TZID=America/Los_Angeles:20231014T100000
DTEND;TZID=America/Los_Angeles:20231014T120000
DTSTAMP:20260420T220559
CREATED:20230920T195727Z
LAST-MODIFIED:20231003T163724Z
UID:18813-1697277600-1697284800@honors.wsu.edu
SUMMARY:Honors College Homecoming Open House
DESCRIPTION:
URL:https://honors.wsu.edu/event/honors-college-homecoming-open-house/
LOCATION:Elmina White Honors Hall Lounge\, 600 Spokane St\, Pullman\, WA\, 99163\, United States
END:VEVENT
BEGIN:VEVENT
DTSTART;TZID=America/Los_Angeles:20231104T090000
DTEND;TZID=America/Los_Angeles:20231104T120000
DTSTAMP:20260420T220559
CREATED:20230920T195943Z
LAST-MODIFIED:20230920T195943Z
UID:18818-1699088400-1699099200@honors.wsu.edu
SUMMARY:HSAC Family Weekend Showcase
DESCRIPTION:
URL:https://honors.wsu.edu/event/hsac-family-weekend-showcase/
LOCATION:Elmina White Honors Hall Lounge\, 600 Spokane St\, Pullman\, WA\, 99163\, United States
END:VEVENT
END:VCALENDAR