BEGIN:VCALENDAR
VERSION:2.0
PRODID:-//The Honors College - ECPv6.1.3//NONSGML v1.0//EN
CALSCALE:GREGORIAN
METHOD:PUBLISH
X-WR-CALNAME:The Honors College
X-ORIGINAL-URL:https://honors.wsu.edu
X-WR-CALDESC:Events for The Honors College
REFRESH-INTERVAL;VALUE=DURATION:PT1H
X-Robots-Tag:noindex
X-PUBLISHED-TTL:PT1H
BEGIN:VTIMEZONE
TZID:America/Los_Angeles
BEGIN:DAYLIGHT
TZOFFSETFROM:-0800
TZOFFSETTO:-0700
TZNAME:PDT
DTSTART:20190310T100000
END:DAYLIGHT
BEGIN:STANDARD
TZOFFSETFROM:-0700
TZOFFSETTO:-0800
TZNAME:PST
DTSTART:20191103T090000
END:STANDARD
END:VTIMEZONE
BEGIN:VEVENT
DTSTART;TZID=America/Los_Angeles:20190412T191500
DTEND;TZID=America/Los_Angeles:20190412T200000
DTSTAMP:20260419T072437
CREATED:20190222T213528Z
LAST-MODIFIED:20190327T173213Z
UID:11393-1555096500-1555099200@honors.wsu.edu
SUMMARY:Mindfulness Experience Offered in the Honors College
DESCRIPTION:The Honors College invites students and moms to join us for a guided mindfulness experience.\nLed by Dr. Lydia Gerber\, the mindfulness experience will help you feel connected to your student/parent as you practice gentle movement and deep breathing. No experience is necessary. Please bring your own mat if available; a limited number of mats will be provided. \nDr. Lydia Gerber is Clinical Associate Professor and Director of the Mindfulness-Based Emotional and Social Intelligence Certificate in the WSU Honors College. \nTwo sessions will be offered. Space is limited.\nRegister for this event \n\n\nFriday\, April 12\n7:15 – 8:00 p.m.\nElmina White Honors Hall Room 142\nFollowed by cookies and beverages in the Honors Hall lobby\n\n\nSaturday\, April 13\n9:15 – 10:00 a.m.\nElmina White Honors Hall Room 142\nFollowed by breakfast hosted by HSAC students in the Honors Lounge
URL:https://honors.wsu.edu/event/mindfulness-experience-offered-in-the-honors-college/
LOCATION:Elmina White Honors Hall Room 142\, Pullman\, WA\, 99163\, United States
END:VEVENT
END:VCALENDAR