BEGIN:VCALENDAR
VERSION:2.0
PRODID:-//The Honors College - ECPv6.1.3//NONSGML v1.0//EN
CALSCALE:GREGORIAN
METHOD:PUBLISH
X-ORIGINAL-URL:https://honors.wsu.edu
X-WR-CALDESC:Events for The Honors College
REFRESH-INTERVAL;VALUE=DURATION:PT1H
X-Robots-Tag:noindex
X-PUBLISHED-TTL:PT1H
BEGIN:VTIMEZONE
TZID:America/Los_Angeles
BEGIN:DAYLIGHT
TZOFFSETFROM:-0800
TZOFFSETTO:-0700
TZNAME:PDT
DTSTART:20170312T100000
END:DAYLIGHT
BEGIN:STANDARD
TZOFFSETFROM:-0700
TZOFFSETTO:-0800
TZNAME:PST
DTSTART:20171105T090000
END:STANDARD
END:VTIMEZONE
BEGIN:VEVENT
DTSTART;TZID=America/Los_Angeles:20170410T130000
DTEND;TZID=America/Los_Angeles:20170410T160000
DTSTAMP:20260420T191644
CREATED:20170403T184714Z
LAST-MODIFIED:20170406T181710Z
UID:6168-1491829200-1491840000@honors.wsu.edu
SUMMARY:Prestigious Fellowships Workshop
DESCRIPTION:Prestigious Fellowships Workshop\nGraduate students and undergraduates who are considering graduate school should attend this workshop to learn about prestigious fellowship opportunities such as the NSF Graduate Research Fellowship Program\, Ford Foundation\, and USDA Fellowships\, and how to be competitive in the application process. This event will also be live-streamed. \nFor more information and to register\, visit: www.gradschool.wsu.edu/fellowships
URL:https://honors.wsu.edu/event/prestigious-fellowships-workshop/
LOCATION:Food Science & Human Nutrition Buildings T101\, Food Science & Human Nutrition Buildings\, Pullman\, 99163\, United States
GEO:46.7326001;-117.1557209
X-APPLE-STRUCTURED-LOCATION;VALUE=URI;X-ADDRESS=Food Science & Human Nutrition Buildings T101 Food Science & Human Nutrition Buildings Pullman 99163 United States;X-APPLE-RADIUS=500;X-TITLE=Food Science & Human Nutrition Buildings:geo:-117.1557209,46.7326001
END:VEVENT
END:VCALENDAR