BEGIN:VCALENDAR
VERSION:2.0
PRODID:-//The Honors College - ECPv6.1.3//NONSGML v1.0//EN
CALSCALE:GREGORIAN
METHOD:PUBLISH
X-WR-CALNAME:The Honors College
X-ORIGINAL-URL:https://honors.wsu.edu
X-WR-CALDESC:Events for The Honors College
REFRESH-INTERVAL;VALUE=DURATION:PT1H
X-Robots-Tag:noindex
X-PUBLISHED-TTL:PT1H
BEGIN:VTIMEZONE
TZID:America/Los_Angeles
BEGIN:DAYLIGHT
TZOFFSETFROM:-0800
TZOFFSETTO:-0700
TZNAME:PDT
DTSTART:20220313T100000
END:DAYLIGHT
BEGIN:STANDARD
TZOFFSETFROM:-0700
TZOFFSETTO:-0800
TZNAME:PST
DTSTART:20221106T090000
END:STANDARD
END:VTIMEZONE
BEGIN:VEVENT
DTSTART;TZID=America/Los_Angeles:20221008T160000
DTEND;TZID=America/Los_Angeles:20221008T180000
DTSTAMP:20260425T133747
CREATED:20220831T212535Z
LAST-MODIFIED:20221004T214756Z
UID:18198-1665244800-1665252000@honors.wsu.edu
SUMMARY:Honors College Alumni Reception
DESCRIPTION:Honors College Alumni Reception\n  \n$15 per person includes two beverage tickets and food \nBusiness casual attire \nJoin us for an afternoon on the WSU Everett campus with Honors College leadership\, students\, members of the Honors College advisory board\, and fellow Honors alumni. Our brief program will highlight the MESI Certificate in Honors that addresses overall wellbeing and teaches students the skills in self-management\, self-awareness\, empathy\, and compassion. \nRegister Here
URL:https://honors.wsu.edu/event/honors-college-alumni-reception/
LOCATION:WSU Everett\, 915 N Broadway\, Everett\, WA\, 98201\, United States
END:VEVENT
END:VCALENDAR